BEGIN:VCALENDAR
VERSION:2.0
PRODID:-//The Daniels Farmstead - ECPv6.15.20//NONSGML v1.0//EN
CALSCALE:GREGORIAN
METHOD:PUBLISH
X-WR-CALNAME:The Daniels Farmstead
X-ORIGINAL-URL:https://danielsfarmstead.org
X-WR-CALDESC:Events for The Daniels Farmstead
REFRESH-INTERVAL;VALUE=DURATION:PT1H
X-Robots-Tag:noindex
X-PUBLISHED-TTL:PT1H
BEGIN:VTIMEZONE
TZID:America/New_York
BEGIN:DAYLIGHT
TZOFFSETFROM:-0500
TZOFFSETTO:-0400
TZNAME:EDT
DTSTART:20250309T070000
END:DAYLIGHT
BEGIN:STANDARD
TZOFFSETFROM:-0400
TZOFFSETTO:-0500
TZNAME:EST
DTSTART:20251102T060000
END:STANDARD
BEGIN:DAYLIGHT
TZOFFSETFROM:-0500
TZOFFSETTO:-0400
TZNAME:EDT
DTSTART:20260308T070000
END:DAYLIGHT
BEGIN:STANDARD
TZOFFSETFROM:-0400
TZOFFSETTO:-0500
TZNAME:EST
DTSTART:20261101T060000
END:STANDARD
BEGIN:DAYLIGHT
TZOFFSETFROM:-0500
TZOFFSETTO:-0400
TZNAME:EDT
DTSTART:20270314T070000
END:DAYLIGHT
BEGIN:STANDARD
TZOFFSETFROM:-0400
TZOFFSETTO:-0500
TZNAME:EST
DTSTART:20271107T060000
END:STANDARD
END:VTIMEZONE
BEGIN:VEVENT
DTSTART;TZID=America/New_York:20260802T110000
DTEND;TZID=America/New_York:20260802T150000
DTSTAMP:20260419T101905
CREATED:20260114T020655Z
LAST-MODIFIED:20260330T152515Z
UID:425-1785668400-1785682800@danielsfarmstead.org
SUMMARY:Weekly Farmers Market
DESCRIPTION:Farm-fresh finds await each week at the Daniels Farmstead’s Weekly Farmers Market\, with a rotating mix of organic\, locally grown produce\, homemade baked-delights\, and handcrafted goods from local vendors. Enjoy live music from area artists\, take a leisurely stroll across the farm\, and explore the historic 1750 Daniels Farmhouse and Cider Mill\, both open for tours during market hours. \nBe sure to stop by Dorris’ Kitchen\, featuring backyard kitchen favorites and an assortment of specialty products\, with proceeds benefiting the Daniels Farmstead Foundation. \nThe Daniels Farmstead’s Weekly Farmers Market features: \n\nOrganic locally grown produce\nWeekly specials\nHomemade baked goods\nBackyard picnic classics\nLocal handicraft vendors\n\nJoin us Sundays from June 28 through October 4! \nLearn more about this season’s upcoming Farmers Markets.
URL:https://danielsfarmstead.org/event/weekly-farmers-market-august-2/
LOCATION:The Daniels Farmstead\, 286 Mendon Street\, Blackstone\, MA\, 01504\, United States
CATEGORIES:Weekly Farmers Markets
ATTACH;FMTTYPE=image/png:https://danielsfarmstead.org/wp-content/uploads/2026/01/Farmers-Market-08.02.2026.png
ORGANIZER;CN="The Daniels Farmstead":MAILTO:info@danielsfarmstead.org
END:VEVENT
BEGIN:VEVENT
DTSTART;TZID=America/New_York:20260809T110000
DTEND;TZID=America/New_York:20260809T150000
DTSTAMP:20260419T101905
CREATED:20260114T020734Z
LAST-MODIFIED:20260330T152527Z
UID:427-1786273200-1786287600@danielsfarmstead.org
SUMMARY:Weekly Farmers Market
DESCRIPTION:Farm-fresh finds await each week at the Daniels Farmstead’s Weekly Farmers Market\, with a rotating mix of organic\, locally grown produce\, homemade baked-delights\, and handcrafted goods from local vendors. Enjoy live music from area artists\, take a leisurely stroll across the farm\, and explore the historic 1750 Daniels Farmhouse and Cider Mill\, both open for tours during market hours. \nBe sure to stop by Dorris’ Kitchen\, featuring backyard kitchen favorites and an assortment of specialty products\, with proceeds benefiting the Daniels Farmstead Foundation. \nThe Daniels Farmstead’s Weekly Farmers Market features: \n\nOrganic locally grown produce\nWeekly specials\nHomemade baked goods\nBackyard picnic classics\nLocal handicraft vendors\n\nJoin us Sundays from June 28 through October 4! \nLearn more about this season’s upcoming Farmers Markets.
URL:https://danielsfarmstead.org/event/weekly-farmers-market-august-9/
LOCATION:The Daniels Farmstead\, 286 Mendon Street\, Blackstone\, MA\, 01504\, United States
CATEGORIES:Weekly Farmers Markets
ATTACH;FMTTYPE=image/png:https://danielsfarmstead.org/wp-content/uploads/2026/01/Farmers-Market-08.09.2026.png
ORGANIZER;CN="The Daniels Farmstead":MAILTO:info@danielsfarmstead.org
END:VEVENT
BEGIN:VEVENT
DTSTART;TZID=America/New_York:20260816T110000
DTEND;TZID=America/New_York:20260816T150000
DTSTAMP:20260419T101905
CREATED:20260114T020815Z
LAST-MODIFIED:20260330T152540Z
UID:429-1786878000-1786892400@danielsfarmstead.org
SUMMARY:Weekly Farmers Market
DESCRIPTION:Farm-fresh finds await each week at the Daniels Farmstead’s Weekly Farmers Market\, with a rotating mix of organic\, locally grown produce\, homemade baked-delights\, and handcrafted goods from local vendors. Enjoy live music from area artists\, take a leisurely stroll across the farm\, and explore the historic 1750 Daniels Farmhouse and Cider Mill\, both open for tours during market hours. \nBe sure to stop by Dorris’ Kitchen\, featuring backyard kitchen favorites and an assortment of specialty products\, with proceeds benefiting the Daniels Farmstead Foundation. \nThe Daniels Farmstead’s Weekly Farmers Market features: \n\nOrganic locally grown produce\nWeekly specials\nHomemade baked goods\nBackyard picnic classics\nLocal handicraft vendors\n\nJoin us Sundays from June 28 through October 4! \nLearn more about this season’s upcoming Farmers Markets.
URL:https://danielsfarmstead.org/event/weekly-farmers-market-august-16/
LOCATION:The Daniels Farmstead\, 286 Mendon Street\, Blackstone\, MA\, 01504\, United States
CATEGORIES:Weekly Farmers Markets
ATTACH;FMTTYPE=image/png:https://danielsfarmstead.org/wp-content/uploads/2026/01/Farmers-Market-08.16.2026-1.png
ORGANIZER;CN="The Daniels Farmstead":MAILTO:info@danielsfarmstead.org
END:VEVENT
BEGIN:VEVENT
DTSTART;TZID=America/New_York:20260823T110000
DTEND;TZID=America/New_York:20260823T150000
DTSTAMP:20260419T101905
CREATED:20260114T021536Z
LAST-MODIFIED:20260330T152554Z
UID:431-1787482800-1787497200@danielsfarmstead.org
SUMMARY:Weekly Farmers Market
DESCRIPTION:Farm-fresh finds await each week at the Daniels Farmstead’s Weekly Farmers Market\, with a rotating mix of organic\, locally grown produce\, homemade baked-delights\, and handcrafted goods from local vendors. Enjoy live music from area artists\, take a leisurely stroll across the farm\, and explore the historic 1750 Daniels Farmhouse and Cider Mill\, both open for tours during market hours. \nBe sure to stop by Dorris’ Kitchen\, featuring backyard kitchen favorites and an assortment of specialty products\, with proceeds benefiting the Daniels Farmstead Foundation. \nThe Daniels Farmstead’s Weekly Farmers Market features: \n\nOrganic locally grown produce\nWeekly specials\nHomemade baked goods\nBackyard picnic classics\nLocal handicraft vendors\n\nJoin us Sundays from June 28 through October 4! \nLearn more about this season’s upcoming Farmers Markets.
URL:https://danielsfarmstead.org/event/weekly-farmers-market-august-23/
LOCATION:The Daniels Farmstead\, 286 Mendon Street\, Blackstone\, MA\, 01504\, United States
CATEGORIES:Weekly Farmers Markets
ATTACH;FMTTYPE=image/png:https://danielsfarmstead.org/wp-content/uploads/2026/01/Farmers-Market-08.23.2026.png
ORGANIZER;CN="The Daniels Farmstead":MAILTO:info@danielsfarmstead.org
END:VEVENT
BEGIN:VEVENT
DTSTART;TZID=America/New_York:20260830T110000
DTEND;TZID=America/New_York:20260830T150000
DTSTAMP:20260419T101905
CREATED:20260114T021616Z
LAST-MODIFIED:20260330T152605Z
UID:433-1788087600-1788102000@danielsfarmstead.org
SUMMARY:Weekly Farmers Market
DESCRIPTION:Farm-fresh finds await each week at the Daniels Farmstead’s Weekly Farmers Market\, with a rotating mix of organic\, locally grown produce\, homemade baked-delights\, and handcrafted goods from local vendors. Enjoy live music from area artists\, take a leisurely stroll across the farm\, and explore the historic 1750 Daniels Farmhouse and Cider Mill\, both open for tours during market hours. \nBe sure to stop by Dorris’ Kitchen\, featuring backyard kitchen favorites and an assortment of specialty products\, with proceeds benefiting the Daniels Farmstead Foundation. \nThe Daniels Farmstead’s Weekly Farmers Market features: \n\nOrganic locally grown produce\nWeekly specials\nHomemade baked goods\nBackyard picnic classics\nLocal handicraft vendors\n\nJoin us Sundays from June 28 through October 4! \nLearn more about this season’s upcoming Farmers Markets.
URL:https://danielsfarmstead.org/event/weekly-farmers-market-august-30/
LOCATION:The Daniels Farmstead\, 286 Mendon Street\, Blackstone\, MA\, 01504\, United States
CATEGORIES:Weekly Farmers Markets
ATTACH;FMTTYPE=image/png:https://danielsfarmstead.org/wp-content/uploads/2026/01/Farmers-Market-08.30.2026.png
ORGANIZER;CN="The Daniels Farmstead":MAILTO:info@danielsfarmstead.org
END:VEVENT
END:VCALENDAR